BEGIN:VCALENDAR

VERSION:2.0

PRODID:-//hacksw/handcal//NONSGML v1.0//EN

BEGIN:VEVENT

UID:24e50e179be19775a26e6ba83e22277b

DTSTAMP:20260424T112707Z

DTSTART:20260426T100000

DTEND:20260426T103000

SUMMARY:L37715910 - 20/94 Lefroy Road, BEACONSFIELD WA 6162

LOCATION:20/94 Lefroy Road, BEACONSFIELD WA 6162

END:VEVENT

END:VCALENDAR