BEGIN:VCALENDAR

VERSION:2.0

PRODID:-//hacksw/handcal//NONSGML v1.0//EN

BEGIN:VEVENT

UID:2952c091b7ae8e033e3f8747e104d05b

DTSTAMP:20260422T113406Z

DTSTART:20260426T110000

DTEND:20260426T113000

SUMMARY:L40045507 - 47 Ferdinand Crescent, COOLBELLUP WA 6163

LOCATION:47 Ferdinand Crescent, COOLBELLUP WA 6163

END:VEVENT

END:VCALENDAR