BEGIN:VCALENDAR

VERSION:2.0

PRODID:-//hacksw/handcal//NONSGML v1.0//EN

BEGIN:VEVENT

UID:6ea667fba391642fede118df44d13d53

DTSTAMP:20260422T112453Z

DTSTART:20260425T110000

DTEND:20260425T113000

SUMMARY:L40209745 - 14 Varna Place, COOLBELLUP WA 6163

LOCATION:14 Varna Place, COOLBELLUP WA 6163

END:VEVENT

END:VCALENDAR